BEGIN:VCALENDAR
VERSION:2.0
PRODID:-//ChamberMaster//Event Calendar 2.0//EN
METHOD:PUBLISH
X-PUBLISHED-TTL:P3D
REFRESH-INTERVAL:P3D
CALSCALE:GREGORIAN
BEGIN:VEVENT
DTSTART:20111024T220000Z
DTEND:20111024T230000Z
X-MICROSOFT-CDO-ALLDAYEVENT:FALSE
SUMMARY:Ribbon Cutting for Anytime Fitness
DESCRIPTION:Open 24 hours a day 365 days a year\, Anytime Fitness prides itself on providing its members with convenient and affordable fitness options in friendly\, well-maintained facilities that feature top-quality exercise equipment.  State-of-the-art security and surveillance systems ensure member safety even during unstaffed hours at the clubs.
X-ALT-DESC;FMTTYPE=text/html:<span style="font-size: 14px"><span style="font-family: verdana"><em>Open 24 hours a day 365 days a year\, Anytime Fitness prides itself on providing its members with convenient and affordable fitness options in friendly\, well-maintained facilities that feature top-quality exercise equipment.&nbsp\; State-of-the-art security and surveillance systems ensure member safety even during unstaffed hours at the clubs.&nbsp\; </em></span></span><br />\n
LOCATION:1100 U. S. Hwy 287\, Suite 1400 Broomfield\, CO 80020
UID:e.641.2724
SEQUENCE:3
DTSTAMP:20260420T010924Z
URL:http://business.broomfieldchamber.com/events/details/ribbon-cutting-for-anytime-fitness-10-24-2011-2724
END:VEVENT

END:VCALENDAR
