BEGIN:VCALENDAR
VERSION:2.0
PRODID:-//ChamberMaster//Event Calendar 2.0//EN
METHOD:PUBLISH
X-PUBLISHED-TTL:P3D
REFRESH-INTERVAL:P3D
CALSCALE:GREGORIAN
BEGIN:VEVENT
DTSTART:20100507T180000Z
DTEND:20100507T190000Z
X-MICROSOFT-CDO-ALLDAYEVENT:FALSE
SUMMARY:Ribbon Cutting for Aricia LaFrance Coaching
DESCRIPTION:Ribbon Cutting for Aricia LaFrance Coaching
X-ALT-DESC;FMTTYPE=text/html:<div>Ribbon Cutting for Aricia LaFrance Coaching</div>
LOCATION:Broomfield Chamber of CommerceTroy Centre Conference Room2095 W. 6th AvenueBroomfield\, CO 80020
UID:e.641.601
SEQUENCE:3
DTSTAMP:20260421T025019Z
URL:http://business.broomfieldchamber.com/events/details/ribbon-cutting-for-aricia-lafrance-coaching-05-07-2010-601
END:VEVENT

END:VCALENDAR
