BEGIN:VCALENDAR
VERSION:2.0
PRODID:-//ChamberMaster//Event Calendar 2.0//EN
METHOD:PUBLISH
X-PUBLISHED-TTL:P3D
REFRESH-INTERVAL:P3D
CALSCALE:GREGORIAN
BEGIN:VEVENT
DTSTART:20100419T180000Z
DTEND:20100419T190000Z
X-MICROSOFT-CDO-ALLDAYEVENT:FALSE
SUMMARY:Ribbon Cutting for Aspen Arbor Animal Hospital
DESCRIPTION:Ribbon Cutting for Aspen Arbor Animal Hospital
X-ALT-DESC;FMTTYPE=text/html:<div>Ribbon Cutting for Aspen Arbor Animal Hospital</div>
LOCATION:Aspen Arbor Animal Hospital8865 W. 116th AvenueBroomfield\, CO 80021
UID:e.641.740
SEQUENCE:3
DTSTAMP:20260421T040953Z
URL:http://business.broomfieldchamber.com/events/details/ribbon-cutting-for-aspen-arbor-animal-hospital-04-19-2010-740
END:VEVENT

END:VCALENDAR
