BEGIN:VCALENDAR
VERSION:2.0
PRODID:-//ChamberMaster//Event Calendar 2.0//EN
METHOD:PUBLISH
X-PUBLISHED-TTL:P3D
REFRESH-INTERVAL:P3D
CALSCALE:GREGORIAN
BEGIN:VEVENT
DTSTART:20110815T150000Z
DTEND:20110815T160000Z
X-MICROSOFT-CDO-ALLDAYEVENT:FALSE
SUMMARY:Ribbon Cutting for Aspen Creek Heating & Air\, LLC
DESCRIPTION:We are a family-owned and operated business\, specializing in all of your heating & cooling needs including\, but not limited to\, furnaces\, a/c's\, Evaporative coolers\, water heaters\, heat pumps\, geo-thermal\, whole-house humidifiers\, air-purification systems\, and water line reparation. We offer free estimates and 24-hour emergency service.
X-ALT-DESC;FMTTYPE=text/html:<span style="font-size: 16px"><em><span style="color: black"><span style="font-family: calibri">We are a family-owned and operated business\, specializing in all of your heating &amp\; cooling needs including\, but not limited to\, furnaces\, a/c&rsquo\;s\, Evaporative coolers\, water heaters\, heat pumps\, geo-thermal\, whole-house humidifiers\, air-purification systems\, and water line reparation. We offer free estimates and 24-hour emergency service.</span></span></em></span><br />\n&nbsp\;<br />\n
LOCATION:2095 W. 6th Ave.\, Suite 109 Broomfield\, Co. 80020 (Broomfield Chamber offices)
UID:e.641.1504
SEQUENCE:3
DTSTAMP:20260420T034645Z
URL:http://business.broomfieldchamber.com/events/details/ribbon-cutting-for-aspen-creek-heating-air-llc-08-15-2011-1504
END:VEVENT

END:VCALENDAR
