BEGIN:VCALENDAR
VERSION:2.0
PRODID:-//ChamberMaster//Event Calendar 2.0//EN
METHOD:PUBLISH
X-PUBLISHED-TTL:P3D
REFRESH-INTERVAL:P3D
CALSCALE:GREGORIAN
BEGIN:VEVENT
DTSTART:20120601T210000Z
DTEND:20120601T220000Z
X-MICROSOFT-CDO-ALLDAYEVENT:FALSE
SUMMARY:Ribbon Cutting for Beyond BodyWork
DESCRIPTION:Beyond BodyWork provides clinical massage therapy particularly for people who are experiencing pain or limited mobility. Located in a beautiful clinic in the Troy Centre\, our services are affordable and very effective. We currently use massage and stretching\, but will add yoga and acupuncture soon.
X-ALT-DESC;FMTTYPE=text/html:<span style="font-size: 14px">Beyond BodyWork provides clinical massage therapy particularly for people who are experiencing pain or limited mobility. Located in a beautiful clinic in the Troy Centre\, our services are affordable and very effective. We currently use massage and stretching\, but will add yoga and acupuncture soon.</span>
LOCATION:2095 W. 6th Ave Suite 103 Broomfield\, CO 80020
UID:e.641.3943
SEQUENCE:3
DTSTAMP:20260419T132549Z
URL:http://business.broomfieldchamber.com/events/details/ribbon-cutting-for-beyond-bodywork-06-01-2012-3943
END:VEVENT

END:VCALENDAR
