BEGIN:VCALENDAR
VERSION:2.0
PRODID:-//ChamberMaster//Event Calendar 2.0//EN
METHOD:PUBLISH
X-PUBLISHED-TTL:P3D
REFRESH-INTERVAL:P3D
CALSCALE:GREGORIAN
BEGIN:VEVENT
DTSTART:20120504T210000Z
DTEND:20120504T220000Z
X-MICROSOFT-CDO-ALLDAYEVENT:FALSE
SUMMARY:Ribbon Cutting for Big Choice Brewing Company
DESCRIPTION:Big Choice Brewing\, LLC is a locally owned and operated microbrewery\, serving the Front Range from its location along the US 36 corridor in Broomfield\, CO. Nathaniel Miller and Tyler Ruse are excited to bring great craft beer across a variety of styles to their local communities. Big Choice Brewing\, LLC will operate a full tasting room opening May 4\, 2012.
X-ALT-DESC;FMTTYPE=text/html:<span style="font-size: 16px"><span style="font-family: verdana">Big Choice Brewing\, LLC is a locally owned and operated microbrewery\, serving the Front Range from its location along the US 36 corridor in Broomfield\, CO. Nathaniel Miller and Tyler Ruse are excited to bring great craft beer across a variety of styles to their local communities. Big Choice Brewing\, LLC will operate a full tasting room opening May 4\, 2012.</span></span><br />\n<br />\n
LOCATION:7270 W. 118th Place Broomfield\, CO
UID:e.641.3994
SEQUENCE:3
DTSTAMP:20260419T144815Z
URL:http://business.broomfieldchamber.com/events/details/ribbon-cutting-for-big-choice-brewing-company-05-04-2012-3994
END:VEVENT

END:VCALENDAR
