BEGIN:VCALENDAR
VERSION:2.0
PRODID:-//ChamberMaster//Event Calendar 2.0//EN
METHOD:PUBLISH
X-PUBLISHED-TTL:P3D
REFRESH-INTERVAL:P3D
CALSCALE:GREGORIAN
BEGIN:VEVENT
DTSTART:20111214T230000Z
DTEND:20111215T000000Z
X-MICROSOFT-CDO-ALLDAYEVENT:FALSE
SUMMARY:Ribbon Cutting for Big Frog T-Shirt Printing and More
DESCRIPTION:Big Frog offers quality custom decorated garments with 24 hour turnaround\, no minimums\, no setup fees\, and unlimited colors at affordable prices. T-shirts start at $15.99 for one\, with quantity discounts for larger orders! Our breathable dyes never peel or fade. Yes\, we do embroidery. We guarantee your satisfaction 100%.
X-ALT-DESC;FMTTYPE=text/html:<span style="font-size: 14px"><span style="font-family: verdana">Big Frog offers quality custom decorated garments with 24 hour turnaround\, no minimums\, no setup fees\, and unlimited colors at affordable prices. T-shirts start at $15.99 for one\, with quantity discounts for larger orders! Our breathable dyes never peel or fade. Yes\, we do embroidery. We guarantee your satisfaction 100%.</span></span>
LOCATION:The Shops at Walnut Creek 10442 Town Center Dr. #400 Westminster\, CO 80021
UID:e.641.3128
SEQUENCE:3
DTSTAMP:20260419T223516Z
URL:http://business.broomfieldchamber.com/events/details/ribbon-cutting-for-big-frog-t-shirt-printing-and-more-12-14-2011-3128
END:VEVENT

END:VCALENDAR
