BEGIN:VCALENDAR
VERSION:2.0
PRODID:-//ChamberMaster//Event Calendar 2.0//EN
METHOD:PUBLISH
X-PUBLISHED-TTL:P3D
REFRESH-INTERVAL:P3D
CALSCALE:GREGORIAN
BEGIN:VEVENT
DTSTART:20100924T220000Z
DTEND:20100924T230000Z
X-MICROSOFT-CDO-ALLDAYEVENT:FALSE
SUMMARY:Ribbon Cutting for Bloomin'
DESCRIPTION:Wine and hor'doevres will be served
X-ALT-DESC;FMTTYPE=text/html:Wine and hor&#39\;doevres will be served
LOCATION:Held at the Broomfield Xeroscape Garden in front of the City and County Building
UID:e.641.1189
SEQUENCE:3
DTSTAMP:20260420T202131Z
URL:http://business.broomfieldchamber.com/events/details/ribbon-cutting-for-bloomin-09-24-2010-1189
END:VEVENT

END:VCALENDAR
