BEGIN:VCALENDAR
VERSION:2.0
PRODID:-//ChamberMaster//Event Calendar 2.0//EN
METHOD:PUBLISH
X-PUBLISHED-TTL:P3D
REFRESH-INTERVAL:P3D
CALSCALE:GREGORIAN
BEGIN:VEVENT
DTSTART:20111104T210000Z
DTEND:20111104T220000Z
X-MICROSOFT-CDO-ALLDAYEVENT:FALSE
SUMMARY:Ribbon Cutting for Bohme Boutique
DESCRIPTION:Bohme prides itself in helping each of its customers to get noticed by wearing fun\, fashionable clothing and bringing out each woman's natural beauty. We always stay on top of the fashion trends and know how to "tweak" each piece just right to cater to each of our customer needs and wants.
X-ALT-DESC;FMTTYPE=text/html:<em><span style="font-family: verdana"><span style="font-size: 14px"><span class="text">Bohme prides itself in helping each of its customers to get noticed by wearing fun\, fashionable clothing and bringing out each woman&#39\;s natural beauty. We always stay on top of the fashion trends and know how to &quot\;tweak&quot\; each piece just right to cater to each of our customer needs and wants.</span></span></span></em><br />\n<br />\n
LOCATION:One West Flatiron Crossing Dr.\, Suite 20 Broomfield\, CO 80021
UID:e.641.3076
SEQUENCE:3
DTSTAMP:20260419T234659Z
URL:http://business.broomfieldchamber.com/events/details/ribbon-cutting-for-bohme-boutique-11-04-2011-3076
END:VEVENT

END:VCALENDAR
