BEGIN:VCALENDAR
VERSION:2.0
PRODID:-//ChamberMaster//Event Calendar 2.0//EN
METHOD:PUBLISH
X-PUBLISHED-TTL:P3D
REFRESH-INTERVAL:P3D
CALSCALE:GREGORIAN
BEGIN:VEVENT
DTSTART:20110615T220000Z
DTEND:20110615T230000Z
X-MICROSOFT-CDO-ALLDAYEVENT:FALSE
SUMMARY:Ribbon Cutting for Bolder Staffing
DESCRIPTION:Bolder Staffing Inc. and Bolder Professional Placements (BSI and BP2) is a dynamic resource for finding talented employees.  Both divisions have invaluable experience\, along with deep community roots\, to give both clients and employees what they need.  Recently\, BSI and BP2 moved to the desirable location at 350 Interlocken Blvd\, Ste 106 in Broomfield.
X-ALT-DESC;FMTTYPE=text/html:<p>\n	<em><span style="font-size: medium"><span style="font-family: calibri">Bolder Staffing Inc. and Bolder Professional Placements (BSI and BP2) is a dynamic resource for finding talented employees.&nbsp\; Both divisions have invaluable experience\, along with deep community roots\, to give both clients and employees what they need.&nbsp\; Recently\, BSI and BP2 moved to the desirable location at 350 Interlocken Blvd\, Ste 106 in Broomfield.</span></span></em><br />\n	&nbsp\;</p>\n
LOCATION:350 Interlocken Blvd. #106 Broomfield\, CO 80021
UID:e.641.1405
SEQUENCE:3
DTSTAMP:20260420T063519Z
URL:http://business.broomfieldchamber.com/events/details/ribbon-cutting-for-bolder-staffing-06-15-2011-1405
END:VEVENT

END:VCALENDAR
