BEGIN:VCALENDAR
VERSION:2.0
PRODID:-//ChamberMaster//Event Calendar 2.0//EN
METHOD:PUBLISH
X-PUBLISHED-TTL:P3D
REFRESH-INTERVAL:P3D
CALSCALE:GREGORIAN
BEGIN:VEVENT
DTSTART:20110913T183000Z
DTEND:20110913T193000Z
X-MICROSOFT-CDO-ALLDAYEVENT:FALSE
SUMMARY:Ribbon Cutting for Boulder Women's Care
DESCRIPTION:Boulder Women's Care is a Boulder area medical practice that operates with five physicians\, one nurse practitioner and a welcoming\, supportive staff.  We specialize in comprehensive obstetric and gynecologic services for women of all ages.  Providing loyal care since 2000\, our office is located in Boulder at 4745 Arapahoe Avenue\, Suite 320 with services at Boulder Community Foothills Hospital.
X-ALT-DESC;FMTTYPE=text/html:<span style="font-size: 14px"><span style="font-family: verdana"><em>Boulder Women&rsquo\;s Care is a Boulder area medical practice that operates with five physicians\, one nurse practitioner and a welcoming\, supportive staff.&nbsp\; We specialize in comprehensive obstetric and gynecologic services for women of all ages.&nbsp\; Providing loyal care since 2000\, our office is located in Boulder at 4745 Arapahoe Avenue\, Suite 320 with services at Boulder Community Foothills Hospital.&nbsp\; </em></span></span><br />\n
LOCATION:4745 Arapahoe Ave.\, Suite 320 Boulder\, CO 80303
UID:e.641.1462
SEQUENCE:3
DTSTAMP:20260420T034749Z
URL:http://business.broomfieldchamber.com/events/details/ribbon-cutting-for-boulder-women-s-care-09-13-2011-1462
END:VEVENT

END:VCALENDAR
