BEGIN:VCALENDAR
VERSION:2.0
PRODID:-//ChamberMaster//Event Calendar 2.0//EN
METHOD:PUBLISH
X-PUBLISHED-TTL:P3D
REFRESH-INTERVAL:P3D
CALSCALE:GREGORIAN
BEGIN:VEVENT
DTSTART:20110518T190000Z
DTEND:20110518T200000Z
X-MICROSOFT-CDO-ALLDAYEVENT:FALSE
SUMMARY:Ribbon Cutting for Broomfield Academy
DESCRIPTION:The Broomfield Academy Middle School\, for 5th through 8th grade students\, offers individualized and advanced programs designed to assure outstanding achievement in high school and college.  Class sizes are small\, and there is a focus on character education.  The school has a swimming pool and broad programming\, including dance\, music\, drama and world language instruction.  The school offers a variety of educational and fun summer programs. \n\n	\n\n	For more information\, contact Pat Garner\, Principal\, at (303) 469-6449\, visit http://www.broomfieldacademy.com or email MiddleSchoolProgram@broomfieldacademy.com
X-ALT-DESC;FMTTYPE=text/html:<p>\n	<em><span style="font-size: medium"><span style="font-family: calibri">The Broomfield Academy Middle School\, for 5th through 8th grade students\, offers individualized and advanced programs designed to assure outstanding achievement in high school and college.&nbsp\; Class sizes are small\, and there is a focus on character education.&nbsp\; The school has a swimming pool and broad programming\, including dance\, music\, drama and world language instruction.&nbsp\; The school offers a variety of educational and fun summer programs. </span><br />\n	<br />\n	<span style="font-size: 12px">For more information\, contact Pat Garner\, Principal\, at (303) 469-6449\, visit </span></span><a href="http://www.broomfieldacademy.com"><span style="font-size: medium"><span style="font-family: calibri"><span style="color: #0000ff">http://www.broomfieldacademy.com</span></span></span></a>&nbsp\;<span style="font-size: medium"><span style="font-family: calibri">or email&nbsp\;</span></span><a href="mailto:MiddleSchoolProgram@broomfieldacademy.com"><span style="font-size: medium"><span style="font-family: calibri"><span style="color: #0000ff">MiddleSchoolProgram@broomfieldacademy.com</span></span></span></a></em></p>\n
LOCATION:Broomfield Academy 7203 W. 120th Avenue Broomfield\, CO 80020
UID:e.641.1444
SEQUENCE:3
DTSTAMP:20260420T093456Z
URL:http://business.broomfieldchamber.com/events/details/ribbon-cutting-for-broomfield-academy-05-18-2011-1444
END:VEVENT

END:VCALENDAR
