BEGIN:VCALENDAR
VERSION:2.0
PRODID:-//ChamberMaster//Event Calendar 2.0//EN
METHOD:PUBLISH
X-PUBLISHED-TTL:P3D
REFRESH-INTERVAL:P3D
CALSCALE:GREGORIAN
BEGIN:VEVENT
DTSTART:20100920T220000Z
DTEND:20100920T230000Z
X-MICROSOFT-CDO-ALLDAYEVENT:FALSE
SUMMARY:Ribbon Cutting for Broomfield County Democrats Election Headquarters
DESCRIPTION:Cake and refreshments will be provided
X-ALT-DESC;FMTTYPE=text/html:Cake and refreshments will be provided
LOCATION:6811 W. 120th Avenue Unit B Broomfield\, CO 80020 NW corner of 120th and Main behind the Burger King
UID:e.641.1185
SEQUENCE:3
DTSTAMP:20260420T202637Z
URL:http://business.broomfieldchamber.com/events/details/ribbon-cutting-for-broomfield-county-democrats-election-headquarters-09-20-2010-1185
END:VEVENT

END:VCALENDAR
