BEGIN:VCALENDAR
VERSION:2.0
PRODID:-//ChamberMaster//Event Calendar 2.0//EN
METHOD:PUBLISH
X-PUBLISHED-TTL:P3D
REFRESH-INTERVAL:P3D
CALSCALE:GREGORIAN
BEGIN:VEVENT
DTSTART:20110311T223000Z
DTEND:20110311T233000Z
X-MICROSOFT-CDO-ALLDAYEVENT:FALSE
SUMMARY:Ribbon Cutting for Buca di Beppo Broomfield
DESCRIPTION:Ribbon Cutting for\n\nBuca di Beppo Broomfield
X-ALT-DESC;FMTTYPE=text/html:Ribbon Cutting for<br />\nBuca di Beppo Broomfield
LOCATION:615 Flatiron Marketplace Dr. Broomfield\, CO 80021
UID:e.641.1317
SEQUENCE:3
DTSTAMP:20260420T110908Z
URL:http://business.broomfieldchamber.com/events/details/ribbon-cutting-for-buca-di-beppo-broomfield-03-11-2011-1317
END:VEVENT

END:VCALENDAR
