BEGIN:VCALENDAR
VERSION:2.0
PRODID:-//ChamberMaster//Event Calendar 2.0//EN
METHOD:PUBLISH
X-PUBLISHED-TTL:P3D
REFRESH-INTERVAL:P3D
CALSCALE:GREGORIAN
BEGIN:VEVENT
DTSTART:20111027T220000Z
DTEND:20111027T230000Z
X-MICROSOFT-CDO-ALLDAYEVENT:FALSE
SUMMARY:Ribbon Cutting for Caliber Funding
DESCRIPTION:Caliber Funding is a full service mortgage lender who is part of Lone Star Funds a $25 Billion worldwide private equity firm based in Dallas TX. They are licensed nationwide to close Conventional\, FHA and VA loans. The Broomfield location was opened recently.  For more information please contact them directly.
X-ALT-DESC;FMTTYPE=text/html:<span style="font-family: verdana"><span style="font-size: 14px"><em>Caliber Funding is a full service mortgage lender who is part of Lone Star Funds a $25 Billion worldwide private equity firm based in Dallas TX.&nbsp\;They are licensed nationwide to close Conventional\, FHA and VA loans.&nbsp\;The Broomfield location was opened recently.&nbsp\; For more information please contact&nbsp\;them directly.&nbsp\; </em></span></span><br />\n
LOCATION:10901 W. 120th Avenue\, Ste 300 Broomfield\, CO 80021
UID:e.641.1706
SEQUENCE:3
DTSTAMP:20260420T010353Z
URL:http://business.broomfieldchamber.com/events/details/ribbon-cutting-for-caliber-funding-10-27-2011-1706
END:VEVENT

END:VCALENDAR
