BEGIN:VCALENDAR
VERSION:2.0
PRODID:-//ChamberMaster//Event Calendar 2.0//EN
METHOD:PUBLISH
X-PUBLISHED-TTL:P3D
REFRESH-INTERVAL:P3D
CALSCALE:GREGORIAN
BEGIN:VEVENT
DTSTART:20100803T160000Z
DTEND:20100803T170000Z
X-MICROSOFT-CDO-ALLDAYEVENT:FALSE
SUMMARY:Ribbon Cutting for Calico Books
DESCRIPTION:Ribbon Cutting for the BRAND NEWCalico Books!
X-ALT-DESC;FMTTYPE=text/html:<div>Ribbon Cutting for the BRAND NEW</div><div>Calico Books!</div>
LOCATION:300 Nickel Street\, Suite 200Broomfield\, CO 80020 303-438-1111
UID:e.641.1121
SEQUENCE:3
DTSTAMP:20260420T215742Z
URL:http://business.broomfieldchamber.com/events/details/ribbon-cutting-for-calico-books-08-03-2010-1121
END:VEVENT

END:VCALENDAR
