BEGIN:VCALENDAR
VERSION:2.0
PRODID:-//ChamberMaster//Event Calendar 2.0//EN
METHOD:PUBLISH
X-PUBLISHED-TTL:P3D
REFRESH-INTERVAL:P3D
CALSCALE:GREGORIAN
BEGIN:VEVENT
DTSTART:20110114T190000Z
DTEND:20110114T200000Z
X-MICROSOFT-CDO-ALLDAYEVENT:FALSE
SUMMARY:Ribbon Cutting for Canine Rehab Center
DESCRIPTION:Lunch will be provided.
X-ALT-DESC;FMTTYPE=text/html:Lunch will be provided.
LOCATION:8855 W. 116th Circle Suite #2 Broomfield\, CO 80021
UID:e.641.1243
SEQUENCE:3
DTSTAMP:20260420T144218Z
URL:http://business.broomfieldchamber.com/events/details/ribbon-cutting-for-canine-rehab-center-01-14-2011-1243
END:VEVENT

END:VCALENDAR
