BEGIN:VCALENDAR
VERSION:2.0
PRODID:-//ChamberMaster//Event Calendar 2.0//EN
METHOD:PUBLISH
X-PUBLISHED-TTL:P3D
REFRESH-INTERVAL:P3D
CALSCALE:GREGORIAN
BEGIN:VEVENT
DTSTART:20110705T173000Z
DTEND:20110705T183000Z
X-MICROSOFT-CDO-ALLDAYEVENT:FALSE
SUMMARY:Ribbon Cutting for Caring Facial Massage
DESCRIPTION:Relax\, Enjoy\, Rejuvenate with Caring Facial professional skin care.  Care for the face\, hands\, and back\, while resting your mind and body.  Remove skin tags\, cherry angiomas\, brown spots\, broken capillaries\, acne\, clogged pores\, black heads.  Experience FREE 1/2 hour facial sculpting\, combating the look of aging.  Treatments by appointment.
X-ALT-DESC;FMTTYPE=text/html:<span style="font-size: 16px"><em><span style="font-family: times new roman\, serif"><span style="font-family: times new roman">Relax\, Enjoy\, Rejuvenate with Caring Facial professional skin care.&nbsp\; Care for the face\, hands\, and back\, while resting your mind and body.&nbsp\; Remove skin tags\, cherry angiomas\, brown spots\, broken capillaries\, acne\, clogged pores\, black heads.&nbsp\; Experience FREE 1/2 hour facial sculpting\, combating the look of aging.&nbsp\; Treatments by appointment.</span></span></em></span><br />\n<br />\n
LOCATION:Broomfield Chamber Offices 2095 W. 6th Ave.\, Suite 109 Broomfield\, CO 80020
UID:e.641.1483
SEQUENCE:3
DTSTAMP:20260420T051008Z
URL:http://business.broomfieldchamber.com/events/details/ribbon-cutting-for-caring-facial-massage-07-05-2011-1483
END:VEVENT

END:VCALENDAR
