BEGIN:VCALENDAR
VERSION:2.0
PRODID:-//ChamberMaster//Event Calendar 2.0//EN
METHOD:PUBLISH
X-PUBLISHED-TTL:P3D
REFRESH-INTERVAL:P3D
CALSCALE:GREGORIAN
BEGIN:VEVENT
DTSTART:20100402T180000Z
DTEND:20100402T190000Z
X-MICROSOFT-CDO-ALLDAYEVENT:FALSE
SUMMARY:Ribbon Cutting for Code Blue Computing
DESCRIPTION:Ribbon Cutting for Code Blue Computing
X-ALT-DESC;FMTTYPE=text/html:<div>Ribbon Cutting for Code Blue Computing</div>
LOCATION:The Troy Centre Conference Room2095 W. 6th AvenueBroomfield\, CO 80020
UID:e.641.586
SEQUENCE:3
DTSTAMP:20260421T040312Z
URL:http://business.broomfieldchamber.com/events/details/ribbon-cutting-for-code-blue-computing-04-02-2010-586
END:VEVENT

END:VCALENDAR
