BEGIN:VCALENDAR
VERSION:2.0
PRODID:-//ChamberMaster//Event Calendar 2.0//EN
METHOD:PUBLISH
X-PUBLISHED-TTL:P3D
REFRESH-INTERVAL:P3D
CALSCALE:GREGORIAN
BEGIN:VEVENT
DTSTART:20110919T220000Z
DTEND:20110919T230000Z
X-MICROSOFT-CDO-ALLDAYEVENT:FALSE
SUMMARY:Ribbon Cutting for Coldwater Creek
DESCRIPTION:Coldwater Creek is a retailer of women's fashion apparel\, jewelry\,  home accessories\, and gift items. We are committed to creating a unique and personal experience that reflects our customer's lifestyle\, recognizes her individuality\, and delights her with meaning and inspiration. Our merchandise reflects an elegant yet relaxed\, natural  lifestyle.
X-ALT-DESC;FMTTYPE=text/html:<span style="font-size: 14px"><span style="font-family: verdana"><em>Coldwater Creek is a retailer of women&rsquo\;s fashion apparel\, jewelry\, &nbsp\;home accessories\, and gift items. We are committed to creating a unique and personal experience that reflects our customer&rsquo\;s lifestyle\, recognizes her individuality\, and delights her with meaning and inspiration. Our merchandise reflects an elegant yet relaxed\, natural&nbsp\; lifestyle.</em></span></span><br />\n
LOCATION:1 W. Flatirons Circle #2156 Broomfield\, CO 80021
UID:e.641.2723
SEQUENCE:3
DTSTAMP:20260420T021449Z
URL:http://business.broomfieldchamber.com/events/details/ribbon-cutting-for-coldwater-creek-09-19-2011-2723
END:VEVENT

END:VCALENDAR
