BEGIN:VCALENDAR
VERSION:2.0
PRODID:-//ChamberMaster//Event Calendar 2.0//EN
METHOD:PUBLISH
X-PUBLISHED-TTL:P3D
REFRESH-INTERVAL:P3D
CALSCALE:GREGORIAN
BEGIN:VEVENT
DTSTART:20110420T213000Z
DTEND:20110420T223000Z
X-MICROSOFT-CDO-ALLDAYEVENT:FALSE
SUMMARY:Ribbon Cutting for Community Financial Credit Union
DESCRIPTION:Join us for a Ribbon Cutting Ceremony!\n\n\n\nCommunity Financial Credit Union is a $120 million not-for-profit financial institution serving members in key areas of north suburban Denver in communities such as Broomfield\, Westminster\, and Thornton.\n\nVision: We will be a true cooperative\, providing superior economic value and sound financial consultation to our members while rewarding our most loyal members for their commitment to the cooperative. Visit us on the web at www.yourlocalcreditunion.comor call (303)469-5366.
X-ALT-DESC;FMTTYPE=text/html:<span style="font-size: 16px"><strong>Join us for a Ribbon Cutting Ceremony!</strong><br />\n<br />\n<span style="font-size: 14px">Community Financial Credit Union is a $120 million not-for-profit financial institution serving members in key areas of north suburban Denver in communities such as Broomfield\, Westminster\, and Thornton.<br />\nVision: We will be a true cooperative\, providing superior economic value and sound financial consultation to our members while rewarding our most loyal members for their commitment to the cooperative. Visit us on the web at <a href="http://www.yourlocalcreditunion.com">www.yourlocalcreditunion.com</a>or call (303)469-5366.&nbsp\;</span></span><br />\n
LOCATION:6850 W. 119th Ave. Broomfield\, CO 80020
UID:e.641.1395
SEQUENCE:3
DTSTAMP:20260420T111154Z
URL:http://business.broomfieldchamber.com/events/details/ribbon-cutting-for-community-financial-credit-union-04-20-2011-1395
END:VEVENT

END:VCALENDAR
