BEGIN:VCALENDAR
VERSION:2.0
PRODID:-//ChamberMaster//Event Calendar 2.0//EN
METHOD:PUBLISH
X-PUBLISHED-TTL:P3D
REFRESH-INTERVAL:P3D
CALSCALE:GREGORIAN
BEGIN:VEVENT
DTSTART:20100623T180000Z
DTEND:20100623T190000Z
X-MICROSOFT-CDO-ALLDAYEVENT:FALSE
SUMMARY:Ribbon Cutting for Compass LTC
DESCRIPTION:Ribbon Cutting for Compass LTC
X-ALT-DESC;FMTTYPE=text/html:<div>Ribbon Cutting for Compass LTC</div>
LOCATION:Chamber office Lunch will be provided
UID:e.641.1085
SEQUENCE:3
DTSTAMP:20260421T022857Z
URL:http://business.broomfieldchamber.com/events/details/ribbon-cutting-for-compass-ltc-06-23-2010-1085
END:VEVENT

END:VCALENDAR
