BEGIN:VCALENDAR
VERSION:2.0
PRODID:-//ChamberMaster//Event Calendar 2.0//EN
METHOD:PUBLISH
X-PUBLISHED-TTL:P3D
REFRESH-INTERVAL:P3D
CALSCALE:GREGORIAN
BEGIN:VEVENT
DTSTART:20111017T170000Z
DTEND:20111017T180000Z
X-MICROSOFT-CDO-ALLDAYEVENT:FALSE
SUMMARY:Ribbon Cutting for Curves for Women
DESCRIPTION:Broomfield Curves offers one-on-one training\, while members talk and inspire one another during the workout. Curves works every major muscle group with strength training\, cardio and stretching in every 30 minute workout. Working out at Curves combats diabetes\, osteoporosis\, hypertension\, heart disease and other health risks that women can face.\n\n\n\nHave a bone density test\, chinese pulse diagnosis\, skin care/cancer screening and massage here at various times all day! \n\n\n\nLunch will be served.
X-ALT-DESC;FMTTYPE=text/html:<span style="font-family: verdana"><span style="font-size: 14px"><em><span style="color: #333333">Broomfield Curves offers one-on-one training\, while members talk and inspire one another during the workout.&nbsp\;Curves works every major muscle group with strength training\, cardio and stretching in every 30 minute workout. Working out at Curves combats diabetes\, osteoporosis\, hypertension\, heart disease and other health risks that women can face.<br />\n<br />\nHave a bone density test\, chinese pulse diagnosis\, skin care/cancer screening and massage here at various&nbsp\;times all day!&nbsp\;</span></em><br />\n<br />\n<em>Lunch will be served.</em></span></span>
LOCATION:6530 W. 120th Ave.\, B-3 Broomfield\, CO 80020
UID:e.641.2894
SEQUENCE:3
DTSTAMP:20260420T022135Z
URL:http://business.broomfieldchamber.com/events/details/ribbon-cutting-for-curves-for-women-10-17-2011-2894
END:VEVENT

END:VCALENDAR
