BEGIN:VCALENDAR
VERSION:2.0
PRODID:-//ChamberMaster//Event Calendar 2.0//EN
METHOD:PUBLISH
X-PUBLISHED-TTL:P3D
REFRESH-INTERVAL:P3D
CALSCALE:GREGORIAN
BEGIN:VEVENT
DTSTART:20120410T220000Z
DTEND:20120410T230000Z
X-MICROSOFT-CDO-ALLDAYEVENT:FALSE
SUMMARY:Ribbon Cutting for Custom Made Fitness
DESCRIPTION:Sharon Prager-Wortham has been in this profession for 30 years and spends her time educating individuals on exercise\, nutrition and how to make positive lifestyle changes in a safe\, comfortable environment. Services include one-on-one training and coaching\, group exercise\, group fitness training\, corporate wellness and corporate challenges.
X-ALT-DESC;FMTTYPE=text/html:<span style="font-size: 14px"><span style="font-family: verdana"><span style="color: #333333">Sharon Prager-Wortham has been in this profession for 30 years and spends her time educating individuals on exercise\, nutrition and how to make positive lifestyle changes in a safe\, comfortable environment. Services include one-on-one training and coaching\, group exercise\, group fitness training\, corporate wellness and corporate challenges.</span></span></span><br />\n
LOCATION:Custom Made Fitness 8120 Sheridan Blvd. Building A Westminster\, CO
UID:e.641.3235
SEQUENCE:3
DTSTAMP:20260419T162701Z
URL:http://business.broomfieldchamber.com/events/details/ribbon-cutting-for-custom-made-fitness-04-10-2012-3235
END:VEVENT

END:VCALENDAR
