BEGIN:VCALENDAR
VERSION:2.0
PRODID:-//ChamberMaster//Event Calendar 2.0//EN
METHOD:PUBLISH
X-PUBLISHED-TTL:P3D
REFRESH-INTERVAL:P3D
CALSCALE:GREGORIAN
BEGIN:VEVENT
DTSTART:20120308T190000Z
DTEND:20120308T200000Z
X-MICROSOFT-CDO-ALLDAYEVENT:FALSE
SUMMARY:Ribbon Cutting for Dan's Window Cleaning
DESCRIPTION:Dan's Window Cleaning is your local professional window cleaner.  Located in Broomfield\, we specialize in both Residential and Commercial window cleaning.  With no job too big or too small\, we guarantee you will be thrilled with our results every time.  And with Spring just around the corner\, now is the perfect time to call to have your windows sparkling in time for sunshine. We can be reached at 303-862-9449.\n\n\n\nLunch will be provided
X-ALT-DESC;FMTTYPE=text/html:<span style="font-size: 14px"><span style="font-family: arial">Dan&rsquo\;s Window Cleaning is your local professional window cleaner.&nbsp\; Located in Broomfield\, we specialize in both Residential and Commercial window cleaning.&nbsp\; With no job too big or too small\, we guarantee you will be thrilled with our results every time.&nbsp\; And with Spring just around the corner\, now is the perfect time to call to have your windows sparkling in time for sunshine.&nbsp\;We can be reached at <font face="Arial" size="2">303-862-9449</font>.</span></span><br />\n<br />\n<span style="font-size: 14px">Lunch will be provided</span>
LOCATION:Broomfield Chamber 2095 W. 6th Ave Suite 109 Broomfield\, CO 80020
UID:e.641.3212
SEQUENCE:3
DTSTAMP:20260419T180119Z
URL:http://business.broomfieldchamber.com/events/details/ribbon-cutting-for-dan-s-window-cleaning-03-08-2012-3212
END:VEVENT

END:VCALENDAR
