BEGIN:VCALENDAR
VERSION:2.0
PRODID:-//ChamberMaster//Event Calendar 2.0//EN
METHOD:PUBLISH
X-PUBLISHED-TTL:P3D
REFRESH-INTERVAL:P3D
CALSCALE:GREGORIAN
BEGIN:VEVENT
DTSTART:20110318T210000Z
DTEND:20110318T220000Z
X-MICROSOFT-CDO-ALLDAYEVENT:FALSE
SUMMARY:Ribbon Cutting for Dasgteer Pizza
DESCRIPTION:Ribbon Cutting for Dastgeer Pizza\n\nNew York Style Pizza\n\n\n\nJoin us for some free samples!
X-ALT-DESC;FMTTYPE=text/html:<strong><span style="font-size: 14px">Ribbon Cutting for Dastgeer Pizza<br />\nNew York Style Pizza<br />\n<br />\n<em>Join us for some free samples!</em></span></strong><em> </em>
LOCATION:2055 West 136th Ave. Broomfiled\, CO 80023 In the King Soopers Shopping Center
UID:e.641.1313
SEQUENCE:3
DTSTAMP:20260420T110749Z
URL:http://business.broomfieldchamber.com/events/details/ribbon-cutting-for-dasgteer-pizza-03-18-2011-1313
END:VEVENT

END:VCALENDAR
