BEGIN:VCALENDAR
VERSION:2.0
PRODID:-//ChamberMaster//Event Calendar 2.0//EN
METHOD:PUBLISH
X-PUBLISHED-TTL:P3D
REFRESH-INTERVAL:P3D
CALSCALE:GREGORIAN
BEGIN:VEVENT
DTSTART:20110607T170000Z
DTEND:20110607T180000Z
X-MICROSOFT-CDO-ALLDAYEVENT:FALSE
SUMMARY:Ribbon Cutting for Deer Crest Apartments
DESCRIPTION:Deer Crest is an apartment community in the heart of Broomfield that offers spacious apartment homes\, top tier maintenance staff and customer service\, beautiful mountain views\, your own 24 hour fitness center\, short walks to the grocery store\, parks\, and walking trails. We are pet friendly.  Less than a Mile from Highway 36\, you are minutes from Boulder\, downtown Denver\, shopping at nearby Flat Iron Crossing Mall\, and many restaurants & entertainment. (2200 W 10th Ave\, Broomfield CO 80020\, 303-469-5000 or\n\nleasing@deercrest-apts.com)
X-ALT-DESC;FMTTYPE=text/html:<span style="font-size: 12pt"><span style="color: black"><span style="font-family: baskerville old face\, serif">Deer Crest is an apartment community in the heart of Broomfield that offers spacious apartment homes\, top tier maintenance staff and customer service\, beautiful mountain views\, your own 24 hour fitness center\, short walks to the grocery store\, parks\, and walking trails. We are pet friendly.&nbsp\; Less than a Mile from Highway 36\, you are minutes from Boulder\, downtown Denver\, shopping at nearby Flat Iron Crossing Mall\, and many restaurants &amp\; entertainment. (2200 W 10<sup>th</sup> Ave\, Broomfield CO 80020\, 303-469-5000 or<br />\n<a href="mailto:leasing@deercrest-apts.com"><span style="color: #0000ff">leasing@deercrest-apts.com</span></a></span>)</span></span><br />\n
LOCATION:2200 W. 10th Ave. Broomfield\, CO 80020
UID:e.641.1454
SEQUENCE:3
DTSTAMP:20260420T063625Z
URL:http://business.broomfieldchamber.com/events/details/ribbon-cutting-for-deer-crest-apartments-06-07-2011-1454
END:VEVENT

END:VCALENDAR
