BEGIN:VCALENDAR
VERSION:2.0
PRODID:-//ChamberMaster//Event Calendar 2.0//EN
METHOD:PUBLISH
X-PUBLISHED-TTL:P3D
REFRESH-INTERVAL:P3D
CALSCALE:GREGORIAN
BEGIN:VEVENT
DTSTART:20111005T220000Z
DTEND:20111005T230000Z
X-MICROSOFT-CDO-ALLDAYEVENT:FALSE
SUMMARY:Ribbon Cutting for Diane Kingsbeck at Sola Salon
DESCRIPTION:Diane Kingsbeck has been Aveda trained and doing hair for 23yrs and currently works for Sola Salon located at the Orchard town Center. Come experience an entirely different salon\, specializing in colour\, cutting\, and updo's for weddings and special occasions. Look Diane up on Facebook\, Google\, You tube\, dancingcloudphotography.com/Updos for pictures and more info.\n\n\n\nRefreshments will be served
X-ALT-DESC;FMTTYPE=text/html:<span style="font-family: verdana"><span style="font-size: 14px"><em>Diane Kingsbeck has been Aveda trained and doing hair for 23yrs and currently works for&nbsp\;Sola Salon&nbsp\;located at the Orchard town Center. Come experience an entirely different salon\, specializing in colour\, cutting\, and updo&#39\;s for weddings and special occasions. Look Diane up on Facebook\, Google\, You tube\, dancingcloudphotography.com/Updos for pictures and more info.</em></span></span><br />\n<br />\nRefreshments will be served
LOCATION:14532 Orchard Pkwy Westminster\, CO 80023 West side of Macys next to AT
UID:e.641.2910
SEQUENCE:3
DTSTAMP:20260420T010705Z
URL:http://business.broomfieldchamber.com/events/details/ribbon-cutting-for-diane-kingsbeck-at-sola-salon-10-05-2011-2910
END:VEVENT

END:VCALENDAR
