BEGIN:VCALENDAR
VERSION:2.0
PRODID:-//ChamberMaster//Event Calendar 2.0//EN
METHOD:PUBLISH
X-PUBLISHED-TTL:P3D
REFRESH-INTERVAL:P3D
CALSCALE:GREGORIAN
BEGIN:VEVENT
DTSTART:20101014T180000Z
DTEND:20101014T190000Z
X-MICROSOFT-CDO-ALLDAYEVENT:FALSE
SUMMARY:Ribbon Cutting for East Moon Asian Bistro
DESCRIPTION:Lunch will be provided
X-ALT-DESC;FMTTYPE=text/html:Lunch will be provided
LOCATION:10431 Town Center Drive Westminster\, CO 80020 Across from Macaroni Grill and Buffalo Wild Wings
UID:e.641.1201
SEQUENCE:3
DTSTAMP:20260420T190919Z
URL:http://business.broomfieldchamber.com/events/details/ribbon-cutting-for-east-moon-asian-bistro-10-14-2010-1201
END:VEVENT

END:VCALENDAR
