BEGIN:VCALENDAR
VERSION:2.0
PRODID:-//ChamberMaster//Event Calendar 2.0//EN
METHOD:PUBLISH
X-PUBLISHED-TTL:P3D
REFRESH-INTERVAL:P3D
CALSCALE:GREGORIAN
BEGIN:VEVENT
DTSTART:20100910T170000Z
DTEND:20100910T180000Z
X-MICROSOFT-CDO-ALLDAYEVENT:FALSE
SUMMARY:Ribbon Cutting for Elemental Therapeutic massage
DESCRIPTION:Lunch will be provided.
X-ALT-DESC;FMTTYPE=text/html:Lunch will be provided.<br />\n<br />\n
LOCATION:1275 E. 1st Avenue\, Suite C2 Broomfield\, CO 80020 Right next to Bruegger's Bagels\, near King Soopers
UID:e.641.1180
SEQUENCE:3
DTSTAMP:20260420T215548Z
URL:http://business.broomfieldchamber.com/events/details/ribbon-cutting-for-elemental-therapeutic-massage-09-10-2010-1180
END:VEVENT

END:VCALENDAR
