BEGIN:VCALENDAR
VERSION:2.0
PRODID:-//ChamberMaster//Event Calendar 2.0//EN
METHOD:PUBLISH
X-PUBLISHED-TTL:P3D
REFRESH-INTERVAL:P3D
CALSCALE:GREGORIAN
BEGIN:VEVENT
DTSTART:20120330T180000Z
DTEND:20120330T190000Z
X-MICROSOFT-CDO-ALLDAYEVENT:FALSE
SUMMARY:Ribbon Cutting for Emperor Palace
DESCRIPTION:Emperor Palace \n\noffers delicious Chinese Cuisine\, Dim Sum\, seafood and noodle dishes.\n\n\n\nJoin us for lunch as we celebrate our ribbon cutting!
X-ALT-DESC;FMTTYPE=text/html:<span style="font-size: 14px"><span style="font-family: verdana"><em><span style="font-family: times new roman"><span style="font-size: 24px"><span style="color: #a52a2a"><strong>Emperor Palace</strong></span> </span></span></em><br />\noffers delicious Chinese Cuisine\, Dim Sum\, seafood and noodle dishes.<br />\n<br />\nJoin us for lunch as we celebrate our ribbon cutting!</span></span>
LOCATION:6700 W 120th Ave Broomfield\, CO 80020 Corner of Main and 120th
UID:e.641.3500
SEQUENCE:3
DTSTAMP:20260419T193332Z
URL:http://business.broomfieldchamber.com/events/details/ribbon-cutting-for-emperor-palace-03-30-2012-3500
END:VEVENT

END:VCALENDAR
