BEGIN:VCALENDAR
VERSION:2.0
PRODID:-//ChamberMaster//Event Calendar 2.0//EN
METHOD:PUBLISH
X-PUBLISHED-TTL:P3D
REFRESH-INTERVAL:P3D
CALSCALE:GREGORIAN
BEGIN:VEVENT
DTSTART:20110907T170000Z
DTEND:20110907T180000Z
X-MICROSOFT-CDO-ALLDAYEVENT:FALSE
SUMMARY:Ribbon Cutting for Evergreen Memorial Park
DESCRIPTION:Evergreen memorial Park is a full service cemetery offering families traditional burial options\, Mausoleum entombment\, cremation choices and memorialization for your loved ones. The breathtaking mountain views are absolutely captivating and our cemetery is home to many species of wild life. The park is situated on 27 acres located just west of the intersection of I-25 and Highway 7 in northeast Broomfield County.
X-ALT-DESC;FMTTYPE=text/html:<span style="font-family: verdana"><span style="font-size: 14px"><em>Evergreen memorial Park is a full service cemetery offering families traditional burial options\, Mausoleum entombment\, cremation choices and memorialization for your loved ones. The breathtaking mountain views are absolutely captivating and our cemetery is home to many species of wild life. The park is situated on 27 acres located just west of the intersection of I-25 and Highway 7 in northeast Broomfield County.</em></span></span>
LOCATION:200 E. 168th Ave. Broomfield\, CO 80020
UID:e.641.2875
SEQUENCE:3
DTSTAMP:20260420T022123Z
URL:http://business.broomfieldchamber.com/events/details/ribbon-cutting-for-evergreen-memorial-park-09-07-2011-2875
END:VEVENT

END:VCALENDAR
