BEGIN:VCALENDAR
VERSION:2.0
PRODID:-//ChamberMaster//Event Calendar 2.0//EN
METHOD:PUBLISH
X-PUBLISHED-TTL:P3D
REFRESH-INTERVAL:P3D
CALSCALE:GREGORIAN
BEGIN:VEVENT
DTSTART:20120420T153000Z
DTEND:20120420T163000Z
X-MICROSOFT-CDO-ALLDAYEVENT:FALSE
SUMMARY:Ribbon Cutting for Evolve Technologies
DESCRIPTION:Evolve Technologies has been providing "Best of Breed" business communication solutions to our customers since 1995. We offer products and services from the top solutions providers in the industry.  We can assist with your voice and data cabling needs\; offer very competitive costs for your phone and Internet circuits\; provide your IP phone system or offer a hosted voice solution\; and provide your network infrastructure including wireless\, security\, switches and servers.  Contact us for a free quote for any of these products or services\, we are here to serve you.
X-ALT-DESC;FMTTYPE=text/html:<span style="font-size: 14px"><span style="font-family: verdana">Evolve Technologies has been providing &quot\;Best of Breed&quot\; business communication solutions to our customers since 1995. We offer products and services from the top solutions providers in the industry.&nbsp\; We can assist with your voice and data cabling needs\; offer very competitive costs for your phone and Internet circuits\; provide your IP phone system or offer a hosted voice solution\; and provide your network infrastructure including wireless\, security\, switches and servers.&nbsp\; Contact us for a free quote for any of these products or services\, we are here to serve you. </span></span>
LOCATION:Broomfield Chamber 2095 W. 6th Ave Broomfield\, CO 80020
UID:e.641.3895
SEQUENCE:3
DTSTAMP:20260419T161912Z
URL:http://business.broomfieldchamber.com/events/details/ribbon-cutting-for-evolve-technologies-04-20-2012-3895
END:VEVENT

END:VCALENDAR
