BEGIN:VCALENDAR
VERSION:2.0
PRODID:-//ChamberMaster//Event Calendar 2.0//EN
METHOD:PUBLISH
X-PUBLISHED-TTL:P3D
REFRESH-INTERVAL:P3D
CALSCALE:GREGORIAN
BEGIN:VEVENT
DTSTART:20120416T220000Z
DTEND:20120416T230000Z
X-MICROSOFT-CDO-ALLDAYEVENT:FALSE
SUMMARY:Ribbon Cutting for Facelogic
DESCRIPTION:Facelogic Spa makes routine skincare easy and affordable for everyone. Our services include an array of custom facials using Facelogic Signature line\, Eminence Organics\, Sanitas and Peter Thomas Roth lines. Other services include back facials\, facial and body waxing\, microdermabrasion\, peels\, make-up lessons\, and our newest addition...eye lash extentions! Facelogic is Affordable Luxury. Please call for more information 303-466-SKIN (7546.)
X-ALT-DESC;FMTTYPE=text/html:<span style="font-size: 14px"><span style="font-family: verdana">Facelogic Spa makes routine skincare easy and affordable for everyone. Our services include an array of custom facials using Facelogic Signature line\, Eminence Organics\, Sanitas and Peter Thomas Roth lines. Other services include back facials\, facial and body waxing\, microdermabrasion\, peels\, make-up lessons\, and our newest addition...eye lash extentions! Facelogic is Affordable Luxury. Please call for more information 303-466-SKIN (7546.)</span></span><br />\n
LOCATION:Facelogic Spa 1170 US Hwy 287 Suite 200 Broomfield\, CO 80020
UID:e.641.3473
SEQUENCE:3
DTSTAMP:20260419T161757Z
URL:http://business.broomfieldchamber.com/events/details/ribbon-cutting-for-facelogic-04-16-2012-3473
END:VEVENT

END:VCALENDAR
