BEGIN:VCALENDAR
VERSION:2.0
PRODID:-//ChamberMaster//Event Calendar 2.0//EN
METHOD:PUBLISH
X-PUBLISHED-TTL:P3D
REFRESH-INTERVAL:P3D
CALSCALE:GREGORIAN
BEGIN:VEVENT
DTSTART:20100317T180000Z
DTEND:20100317T190000Z
X-MICROSOFT-CDO-ALLDAYEVENT:FALSE
SUMMARY:Ribbon Cutting for Farmers Insurance-Jon Dewey
DESCRIPTION:Ribbon Cutting for Farmers Insurance-Jon Dewey
X-ALT-DESC;FMTTYPE=text/html:<div>Ribbon Cutting for Farmers Insurance-Jon Dewey</div>
LOCATION:The Troy Centre Conference Room2095 W. 6th AvenueBroomfield\, CO 80020
UID:e.641.582
SEQUENCE:3
DTSTAMP:20260421T055827Z
URL:http://business.broomfieldchamber.com/events/details/ribbon-cutting-for-farmers-insurance-jon-dewey-03-17-2010-582
END:VEVENT

END:VCALENDAR
