BEGIN:VCALENDAR
VERSION:2.0
PRODID:-//ChamberMaster//Event Calendar 2.0//EN
METHOD:PUBLISH
X-PUBLISHED-TTL:P3D
REFRESH-INTERVAL:P3D
CALSCALE:GREGORIAN
BEGIN:VEVENT
DTSTART:20120507T173000Z
DTEND:20120507T183000Z
X-MICROSOFT-CDO-ALLDAYEVENT:FALSE
SUMMARY:Ribbon Cutting for Farmers Insurance Matt Mullins
DESCRIPTION:Matt Mullins Farmers Insurance Agency 720-379-5640\n\n12001 Tejon St. Suite 128\n\nWestminster\, CO 80234\n\n\n\nCome enjoy lunch and dessert at my new office and feel free to network and build some new relationships!
X-ALT-DESC;FMTTYPE=text/html:<span style="font-size: 14px"><span style="font-family: verdana">Matt Mullins Farmers Insurance Agency 720-379-5640<br />\n12001 Tejon St. Suite 128<br />\nWestminster\, CO 80234<br />\n<br />\nCome enjoy lunch and dessert at my new office and feel free to network and build some new relationships! </span></span>
LOCATION:12001 Tejon Street Suite 128 Westminster\, CO 80234
UID:e.641.3898
SEQUENCE:3
DTSTAMP:20260419T144940Z
URL:http://business.broomfieldchamber.com/events/details/ribbon-cutting-for-farmers-insurance-matt-mullins-05-07-2012-3898
END:VEVENT

END:VCALENDAR
