BEGIN:VCALENDAR
VERSION:2.0
PRODID:-//ChamberMaster//Event Calendar 2.0//EN
METHOD:PUBLISH
X-PUBLISHED-TTL:P3D
REFRESH-INTERVAL:P3D
CALSCALE:GREGORIAN
BEGIN:VEVENT
DTSTART:20100806T180000Z
DTEND:20100806T190000Z
X-MICROSOFT-CDO-ALLDAYEVENT:FALSE
SUMMARY:Ribbon Cutting for Fat Cats Fun Center
DESCRIPTION:Lunch will be provided
X-ALT-DESC;FMTTYPE=text/html:<div>Lunch will be provided</div>
LOCATION:FatCats Fun Center10685 Westminster Blvd.Westminster\, CO 80021 (303) 466-4754
UID:e.641.1108
SEQUENCE:3
DTSTAMP:20260420T215725Z
URL:http://business.broomfieldchamber.com/events/details/ribbon-cutting-for-fat-cats-fun-center-08-06-2010-1108
END:VEVENT

END:VCALENDAR
