BEGIN:VCALENDAR
VERSION:2.0
PRODID:-//ChamberMaster//Event Calendar 2.0//EN
METHOD:PUBLISH
X-PUBLISHED-TTL:P3D
REFRESH-INTERVAL:P3D
CALSCALE:GREGORIAN
BEGIN:VEVENT
DTSTART:20100521T170000Z
DTEND:20100521T180000Z
X-MICROSOFT-CDO-ALLDAYEVENT:FALSE
SUMMARY:Ribbon Cutting for Firestone Complete Auto Care
DESCRIPTION:Ribbon Cutting for Firestone Complete Auto Care
X-ALT-DESC;FMTTYPE=text/html:<div>Ribbon Cutting for Firestone Complete Auto Care</div>
LOCATION:1800 Coalton RoadSuperior\, CO 80027303-466-1383
UID:e.641.1003
SEQUENCE:3
DTSTAMP:20260421T022944Z
URL:http://business.broomfieldchamber.com/events/details/ribbon-cutting-for-firestone-complete-auto-care-05-21-2010-1003
END:VEVENT

END:VCALENDAR
