BEGIN:VCALENDAR
VERSION:2.0
PRODID:-//ChamberMaster//Event Calendar 2.0//EN
METHOD:PUBLISH
X-PUBLISHED-TTL:P3D
REFRESH-INTERVAL:P3D
CALSCALE:GREGORIAN
BEGIN:VEVENT
DTSTART:20100707T180000Z
DTEND:20100707T190000Z
X-MICROSOFT-CDO-ALLDAYEVENT:FALSE
SUMMARY:Ribbon Cutting for FIT Wellness Center
DESCRIPTION:Ribbon Cutting for FIT Wellness Center
X-ALT-DESC;FMTTYPE=text/html:<div>Ribbon Cutting&nbsp\;for FIT Wellness Center</div><div>&nbsp\;</div>
LOCATION:1140 US Highway 287\, Suite 100Broomfield\, CO 80020(303) 469-1066
UID:e.641.1089
SEQUENCE:3
DTSTAMP:20260421T010737Z
URL:http://business.broomfieldchamber.com/events/details/ribbon-cutting-for-fit-wellness-center-07-07-2010-1089
END:VEVENT

END:VCALENDAR
