BEGIN:VCALENDAR
VERSION:2.0
PRODID:-//ChamberMaster//Event Calendar 2.0//EN
METHOD:PUBLISH
X-PUBLISHED-TTL:P3D
REFRESH-INTERVAL:P3D
CALSCALE:GREGORIAN
BEGIN:VEVENT
DTSTART:20111031T170000Z
DTEND:20111031T180000Z
X-MICROSOFT-CDO-ALLDAYEVENT:FALSE
SUMMARY:Ribbon Cutting for Fitness Together
DESCRIPTION:Fitness Together Louisville is a private personal training studio\, specializing in 1-on-1 personal training as well as small group personal training. They provide all of their clients with a comprehensive nutrition program. Whether it's Small Group Training\, 1-on-1 training or some combination of the two\, FT has the safe and effective solution for people at all levels of conditioning to feel better\, look better and perform better than you ever thought possible.
X-ALT-DESC;FMTTYPE=text/html:<span style="font-family: verdana"><span style="font-size: 14px"><em>Fitness Together Louisville is a private personal training studio\, specializing in 1-on-1 personal training as well as small group personal training.&nbsp\;They provide all of&nbsp\;their clients with a comprehensive nutrition program. Whether it&#39\;s Small Group Training\, 1-on-1 training or some combination of the two\, FT has the safe and effective solution for people at all levels of conditioning to feel better\, look better and perform better than you ever thought possible.</em></span></span><br />\n
LOCATION:159 McCaslin Blvd.\, Unit C Louisville\, CO 80027
UID:e.641.2918
SEQUENCE:3
DTSTAMP:20260420T010833Z
URL:http://business.broomfieldchamber.com/events/details/ribbon-cutting-for-fitness-together-10-31-2011-2918
END:VEVENT

END:VCALENDAR
