BEGIN:VCALENDAR
VERSION:2.0
PRODID:-//ChamberMaster//Event Calendar 2.0//EN
METHOD:PUBLISH
X-PUBLISHED-TTL:P3D
REFRESH-INTERVAL:P3D
CALSCALE:GREGORIAN
BEGIN:VEVENT
DTSTART:20101001T150000Z
DTEND:20101001T160000Z
X-MICROSOFT-CDO-ALLDAYEVENT:FALSE
SUMMARY:Ribbon Cutting for Friday Leads Group
DESCRIPTION:Coffee and donuts will be served
X-ALT-DESC;FMTTYPE=text/html:<div>Coffee and donuts will be served</div>
LOCATION:Chamber offices
UID:e.641.1155
SEQUENCE:3
DTSTAMP:20260420T201958Z
URL:http://business.broomfieldchamber.com/events/details/ribbon-cutting-for-friday-leads-group-10-01-2010-1155
END:VEVENT

END:VCALENDAR
