BEGIN:VCALENDAR
VERSION:2.0
PRODID:-//ChamberMaster//Event Calendar 2.0//EN
METHOD:PUBLISH
X-PUBLISHED-TTL:P3D
REFRESH-INTERVAL:P3D
CALSCALE:GREGORIAN
BEGIN:VEVENT
DTSTART:20110711T150000Z
DTEND:20110711T160000Z
X-MICROSOFT-CDO-ALLDAYEVENT:FALSE
SUMMARY:Ribbon Cutting for Front Range CPR\, LLC
DESCRIPTION:Front Range CPR is a mobile service that brings high quality First Aid and CPR education to the door of your Home\, Youth Group\, Church\, or Workplace.  We keep our service flexible to meet your needs. CPR and AED training\, First Aid Training\, Babysitting Safety\,Wilderness First Aid classes and Blood borne Pathogens certification. We are a Colorado Department of Human Services preferred vendor for Daycare facilities. All classes meet the AHA G2010 standards. Certifications are through American Safety and Health Institute.
X-ALT-DESC;FMTTYPE=text/html:<span _fck_bookmark="1" style="display: none">&nbsp\;</span>\n<p>\n	<span style="font-size: 14px"><em><span style="font-family: calibri"><span _fck_bookmark="1" style="display: none">&nbsp\;</span>Front Range CPR&nbsp\;is a mobile service that brings high quality First Aid and CPR&nbsp\;education to the door of your Home\, Youth Group\, Church\,&nbsp\;or Workplace.&nbsp\; We keep our service flexible to meet your needs.&nbsp\;CPR and AED training</span>\, First Aid Training\, Babysitting Safety\,Wilderness First Aid classes and Blood borne Pathogens certification. We are a Colorado Department of Human Services preferred vendor for Daycare facilities. All classes meet the AHA G2010 standards.&nbsp\;Certifications are through American Safety and Health Institute.<span _fck_bookmark="1" style="display: none">&nbsp\;</span></em></span></p>\n<span _fck_bookmark="1" style="display: none">&nbsp\;</span>
LOCATION:2095 W. 6th Ave.\, Suite 109 Broomfield\, CO 80020 (Broomfield Chamber offices)
UID:e.641.1498
SEQUENCE:3
DTSTAMP:20260420T050432Z
URL:http://business.broomfieldchamber.com/events/details/ribbon-cutting-for-front-range-cpr-llc-07-11-2011-1498
END:VEVENT

END:VCALENDAR
