BEGIN:VCALENDAR
VERSION:2.0
PRODID:-//ChamberMaster//Event Calendar 2.0//EN
METHOD:PUBLISH
X-PUBLISHED-TTL:P3D
REFRESH-INTERVAL:P3D
CALSCALE:GREGORIAN
BEGIN:VEVENT
DTSTART:20120522T220000Z
DTEND:20120522T230000Z
X-MICROSOFT-CDO-ALLDAYEVENT:FALSE
SUMMARY:Ribbon Cutting for Golden Bear Bikes
DESCRIPTION:Broomfield's locally owned and operated Golden Bear Bikes takes pride in crafting the ultimate cycling experience for you.  Our goal is to assist everyone to find the type of bike and proper fit for the type of riding they do or want to do. We can help everyone from recreational riders to elite racers. You can see us in action on Facebook\, Twitter and YouTube. We Know Our Shift!
X-ALT-DESC;FMTTYPE=text/html:<span style="font-size: 14px"><span style="font-family: verdana">Broomfield&rsquo\;s locally owned and operated Golden Bear Bikes takes pride in crafting the ultimate cycling experience for you.&nbsp\; Our goal is to assist everyone to find the type of bike and proper fit for the type of riding they do or want to do. We can help everyone from recreational riders to elite racers. You can see us in action on Facebook\, Twitter and YouTube. We Know Our Shift!</span></span>
LOCATION:290 Nickel St. Suite 100 Broomfield\, CO 80020
UID:e.641.3901
SEQUENCE:3
DTSTAMP:20260419T144921Z
URL:http://business.broomfieldchamber.com/events/details/ribbon-cutting-for-golden-bear-bikes-05-22-2012-3901
END:VEVENT

END:VCALENDAR
