BEGIN:VCALENDAR
VERSION:2.0
PRODID:-//ChamberMaster//Event Calendar 2.0//EN
METHOD:PUBLISH
X-PUBLISHED-TTL:P3D
REFRESH-INTERVAL:P3D
CALSCALE:GREGORIAN
BEGIN:VEVENT
DTSTART:20100723T190000Z
DTEND:20100723T200000Z
X-MICROSOFT-CDO-ALLDAYEVENT:FALSE
SUMMARY:Ribbon Cutting for Higgys Ice Cream
DESCRIPTION:
X-ALT-DESC;FMTTYPE=text/html:
LOCATION:Westminster Promenade10633 Westminster Blvd.\, #300Westminster\, CO 80020 (303) 460-0988
UID:e.641.1100
SEQUENCE:3
DTSTAMP:20260421T010428Z
URL:http://business.broomfieldchamber.com/events/details/ribbon-cutting-for-higgys-ice-cream-07-23-2010-1100
END:VEVENT

END:VCALENDAR
