BEGIN:VCALENDAR
VERSION:2.0
PRODID:-//ChamberMaster//Event Calendar 2.0//EN
METHOD:PUBLISH
X-PUBLISHED-TTL:P3D
REFRESH-INTERVAL:P3D
CALSCALE:GREGORIAN
BEGIN:VEVENT
DTSTART:20101013T220000Z
DTEND:20101013T230000Z
X-MICROSOFT-CDO-ALLDAYEVENT:FALSE
SUMMARY:Ribbon Cutting for Hunter Floor & Window Covering
DESCRIPTION:
X-ALT-DESC;FMTTYPE=text/html:
LOCATION:588 US Highway 287 #101 Lafayette 80026 (303) 666-8314
UID:e.641.1200
SEQUENCE:3
DTSTAMP:20260420T202323Z
URL:http://business.broomfieldchamber.com/events/details/ribbon-cutting-for-hunter-floor-window-covering-10-13-2010-1200
END:VEVENT

END:VCALENDAR
