BEGIN:VCALENDAR
VERSION:2.0
PRODID:-//ChamberMaster//Event Calendar 2.0//EN
METHOD:PUBLISH
X-PUBLISHED-TTL:P3D
REFRESH-INTERVAL:P3D
CALSCALE:GREGORIAN
BEGIN:VEVENT
DTSTART:20110620T200000Z
DTEND:20110620T210000Z
X-MICROSOFT-CDO-ALLDAYEVENT:FALSE
SUMMARY:Ribbon Cutting for Ice Mountain Mist
DESCRIPTION:Ice Mountain Mist provides quality shade and mist cooling products for\; outdoor formal \, recreational\, and sporting events (rentals available)\, shade sails and mist cooling for residential\, hospitality\, and commercial outdoor living areas\, livestock\,  industrial environments\, rehabilitation\, and efficiency boosting of commercial air conditioner and refrigeration units.
X-ALT-DESC;FMTTYPE=text/html:<em><span style="font-family: cambria\, serif"><span style="font-size: medium"><span style="font-family: cambria">Ice Mountain Mist provides quality shade and mist cooling products for\; outdoor formal \, recreational\, and sporting events (rentals available)\, shade sails and mist cooling for residential\, hospitality\, and commercial outdoor living areas\, livestock\,&nbsp\; industrial environments\, rehabilitation\, and efficiency boosting of commercial air conditioner and refrigeration units.&nbsp\; </span></span></span></em><br />\n
LOCATION:Broomfield Chamber offices 2095 W. 6th Avenue Broomfield\, CO 80020
UID:e.641.1473
SEQUENCE:3
DTSTAMP:20260420T063458Z
URL:http://business.broomfieldchamber.com/events/details/ribbon-cutting-for-ice-mountain-mist-06-20-2011-1473
END:VEVENT

END:VCALENDAR
