BEGIN:VCALENDAR
VERSION:2.0
PRODID:-//ChamberMaster//Event Calendar 2.0//EN
METHOD:PUBLISH
X-PUBLISHED-TTL:P3D
REFRESH-INTERVAL:P3D
CALSCALE:GREGORIAN
BEGIN:VEVENT
DTSTART:20101105T220000Z
DTEND:20101105T230000Z
X-MICROSOFT-CDO-ALLDAYEVENT:FALSE
SUMMARY:Ribbon Cutting for Intentio Branding + Design
DESCRIPTION:Intentio Branding + Design\, a Broomfield graphic design firm run by Tara Pederson\, has moved into a local office space\, located in the Great Western Bank Building at 5720 West 120th Ave.\, Suite 2\, in Broomfield. A grand opening will take place on November 5\, from 4-7 pm. www.intentiostudios.com
X-ALT-DESC;FMTTYPE=text/html:<strong><font face="Helvetica">Intentio Branding + Design\, a Broomfield graphic design firm run by Tara Pederson\, has moved into a local office space\, located in the Great Western Bank Building at 5720 West 120th Ave.\, Suite 2\, in Broomfield.&nbsp\;</font>A grand opening will take place on November 5\, from 4-7 pm.&nbsp\;<a href="http://www.intentiostudios.com">www.intentiostudios.com</a></strong>
LOCATION:5720 W. 120th Avenue upstairs in the Great Western Bank building.
UID:e.641.1190
SEQUENCE:3
DTSTAMP:20260420T190749Z
URL:http://business.broomfieldchamber.com/events/details/ribbon-cutting-for-intentio-branding-design-11-05-2010-1190
END:VEVENT

END:VCALENDAR
