BEGIN:VCALENDAR
VERSION:2.0
PRODID:-//ChamberMaster//Event Calendar 2.0//EN
METHOD:PUBLISH
X-PUBLISHED-TTL:P3D
REFRESH-INTERVAL:P3D
CALSCALE:GREGORIAN
BEGIN:VEVENT
DTSTART:20101203T210000Z
DTEND:20101203T220000Z
X-MICROSOFT-CDO-ALLDAYEVENT:FALSE
SUMMARY:Ribbon Cutting for Irene's Mexican Restaurant
DESCRIPTION:Ribbon Cutting for the brand new\n\nIrene's Mexican Restaurant\n\n300 Nickel Street\n\nRight around the corner from Bombay Palace\, in the same shopping Center
X-ALT-DESC;FMTTYPE=text/html:<strong>Ribbon Cutting for the brand new<br />\nIrene&#39\;s Mexican Restaurant<br />\n300 Nickel Street<br />\nRight around the corner from Bombay Palace\, in the same shopping Center</strong>
LOCATION:300 Nickel Street Right around the corner from Bombay Palace\, in the same shopping Center
UID:e.641.1253
SEQUENCE:3
DTSTAMP:20260420T160118Z
URL:http://business.broomfieldchamber.com/events/details/ribbon-cutting-for-irene-s-mexican-restaurant-12-03-2010-1253
END:VEVENT

END:VCALENDAR
