BEGIN:VCALENDAR
VERSION:2.0
PRODID:-//ChamberMaster//Event Calendar 2.0//EN
METHOD:PUBLISH
X-PUBLISHED-TTL:P3D
REFRESH-INTERVAL:P3D
CALSCALE:GREGORIAN
BEGIN:VEVENT
DTSTART:20110217T180000Z
DTEND:20110217T190000Z
X-MICROSOFT-CDO-ALLDAYEVENT:FALSE
SUMMARY:Ribbon Cutting for Isaac Voth Remodeling
DESCRIPTION:Ribbon Cutting for Isaac Voth\n\n\n\nLunch will be served
X-ALT-DESC;FMTTYPE=text/html:Ribbon Cutting for Isaac Voth<br />\n<br />\nLunch will be served
LOCATION:Chamber Offices
UID:e.641.1297
SEQUENCE:3
DTSTAMP:20260420T124848Z
URL:http://business.broomfieldchamber.com/events/details/ribbon-cutting-for-isaac-voth-remodeling-02-17-2011-1297
END:VEVENT

END:VCALENDAR
