BEGIN:VCALENDAR
VERSION:2.0
PRODID:-//ChamberMaster//Event Calendar 2.0//EN
METHOD:PUBLISH
X-PUBLISHED-TTL:P3D
REFRESH-INTERVAL:P3D
CALSCALE:GREGORIAN
BEGIN:VEVENT
DTSTART:20120112T220000Z
DTEND:20120112T230000Z
X-MICROSOFT-CDO-ALLDAYEVENT:FALSE
SUMMARY:Ribbon Cutting for Joseph & Joseph\, LLC
DESCRIPTION:Joseph & Joseph\, LLC 's mission is to supply high quality tax\, accounting and consulting services with an emphasis on providing our clients with the best product possible at a reasonable price in a personal and friendly environment.
X-ALT-DESC;FMTTYPE=text/html:<em><span style="font-family: verdana"><span style="font-size: 14px">Joseph &amp\; Joseph\, LLC &rsquo\;s mission is to supply high quality tax\, accounting and consulting services with an emphasis on providing our clients with the best product possible at a reasonable price in a personal and friendly environment.</span></span></em>
LOCATION:12303 Airport Way\, Ste 200 Broomfield\, CO 80021
UID:e.641.3124
SEQUENCE:3
DTSTAMP:20260419T221526Z
URL:http://business.broomfieldchamber.com/events/details/ribbon-cutting-for-joseph-joseph-llc-01-12-2012-3124
END:VEVENT

END:VCALENDAR
